BEGIN:VCALENDAR
VERSION:2.0
PRODID:-//Greenfield Junior High Orchestras - ECPv5.0.3.1//NONSGML v1.0//EN
CALSCALE:GREGORIAN
METHOD:PUBLISH
X-WR-CALNAME:Greenfield Junior High Orchestras
X-ORIGINAL-URL:https://greenfieldorchestras.com
X-WR-CALDESC:Events for Greenfield Junior High Orchestras
BEGIN:VTIMEZONE
TZID:America/Phoenix
BEGIN:STANDARD
TZOFFSETFROM:-0700
TZOFFSETTO:-0700
TZNAME:MST
DTSTART:20190101T000000
END:STANDARD
END:VTIMEZONE
BEGIN:VEVENT
DTSTART;TZID=America/Phoenix:20190112T090000
DTEND;TZID=America/Phoenix:20190112T140000
DTSTAMP:20260422T171009
CREATED:20180726T050358Z
LAST-MODIFIED:20180726T050358Z
UID:432-1547283600-1547301600@greenfieldorchestras.com
SUMMARY:1/12 Fiddle Fest! (optional)
DESCRIPTION:
URL:https://greenfieldorchestras.com/event/1-12-fiddle-fest-optional/
END:VEVENT
END:VCALENDAR