BEGIN:VCALENDAR
VERSION:2.0
PRODID:-//Greenfield Junior High Orchestras - ECPv5.0.3.1//NONSGML v1.0//EN
CALSCALE:GREGORIAN
METHOD:PUBLISH
X-WR-CALNAME:Greenfield Junior High Orchestras
X-ORIGINAL-URL:https://greenfieldorchestras.com
X-WR-CALDESC:Events for Greenfield Junior High Orchestras
BEGIN:VTIMEZONE
TZID:America/Phoenix
BEGIN:STANDARD
TZOFFSETFROM:-0700
TZOFFSETTO:-0700
TZNAME:MST
DTSTART:20180101T000000
END:STANDARD
END:VTIMEZONE
BEGIN:VEVENT
DTSTART;TZID=America/Phoenix:20181103T080000
DTEND;TZID=America/Phoenix:20181103T160000
DTSTAMP:20260422T192953
CREATED:20180726T045902Z
LAST-MODIFIED:20180726T045916Z
UID:424-1541232000-1541260800@greenfieldorchestras.com
SUMMARY:11/3 Cellobration (optional)
DESCRIPTION:
URL:https://greenfieldorchestras.com/event/11-3-cellobration-optional-event/
LOCATION:Tempe High School
END:VEVENT
END:VCALENDAR