BEGIN:VCALENDAR
VERSION:2.0
PRODID:-//Greenfield Junior High Orchestras - ECPv5.0.3.1//NONSGML v1.0//EN
CALSCALE:GREGORIAN
METHOD:PUBLISH
X-WR-CALNAME:Greenfield Junior High Orchestras
X-ORIGINAL-URL:https://greenfieldorchestras.com
X-WR-CALDESC:Events for Greenfield Junior High Orchestras
BEGIN:VTIMEZONE
TZID:America/Phoenix
BEGIN:STANDARD
TZOFFSETFROM:-0700
TZOFFSETTO:-0700
TZNAME:MST
DTSTART:20180101T000000
END:STANDARD
END:VTIMEZONE
BEGIN:VEVENT
DTSTART;VALUE=DATE:20181107
DTEND;VALUE=DATE:20181108
DTSTAMP:20260422T191957
CREATED:20180726T020409Z
LAST-MODIFIED:20180726T021418Z
UID:379-1541548800-1541635199@greenfieldorchestras.com
SUMMARY:11/7 Music Club Pictures
DESCRIPTION:
URL:https://greenfieldorchestras.com/event/11-7-music-club-pictures/
END:VEVENT
END:VCALENDAR