BEGIN:VCALENDAR
VERSION:2.0
PRODID:-//Greenfield Junior High Orchestras - ECPv5.0.3.1//NONSGML v1.0//EN
CALSCALE:GREGORIAN
METHOD:PUBLISH
X-WR-CALNAME:Greenfield Junior High Orchestras
X-ORIGINAL-URL:https://greenfieldorchestras.com
X-WR-CALDESC:Events for Greenfield Junior High Orchestras
BEGIN:VTIMEZONE
TZID:America/Phoenix
BEGIN:STANDARD
TZOFFSETFROM:-0700
TZOFFSETTO:-0700
TZNAME:MST
DTSTART:20190101T000000
END:STANDARD
END:VTIMEZONE
BEGIN:VEVENT
DTSTART;TZID=America/Phoenix:20190225T190000
DTEND;TZID=America/Phoenix:20190225T200000
DTSTAMP:20260422T171132
CREATED:20180726T050916Z
LAST-MODIFIED:20180726T051126Z
UID:439-1551121200-1551124800@greenfieldorchestras.com
SUMMARY:** 2/25 ORCHESTRA CONCERT (Mon)
DESCRIPTION:
URL:https://greenfieldorchestras.com/event/2-25-orchestra-concert-mon/
LOCATION:Gilbert High School\, 1101 E. Elliot Road\, Gilbert\, 85234
END:VEVENT
END:VCALENDAR