BEGIN:VCALENDAR
VERSION:2.0
PRODID:-//Greenfield Junior High Orchestras - ECPv5.0.3.1//NONSGML v1.0//EN
CALSCALE:GREGORIAN
METHOD:PUBLISH
X-WR-CALNAME:Greenfield Junior High Orchestras
X-ORIGINAL-URL:https://greenfieldorchestras.com
X-WR-CALDESC:Events for Greenfield Junior High Orchestras
BEGIN:VTIMEZONE
TZID:America/Phoenix
BEGIN:STANDARD
TZOFFSETFROM:-0700
TZOFFSETTO:-0700
TZNAME:MST
DTSTART:20180101T000000
END:STANDARD
END:VTIMEZONE
BEGIN:VEVENT
DTSTART;VALUE=DATE:20180808
DTEND;VALUE=DATE:20180809
DTSTAMP:20260422T225528
CREATED:20180726T015435Z
LAST-MODIFIED:20180726T021152Z
UID:370-1533686400-1533772799@greenfieldorchestras.com
SUMMARY:8/8 Bring all orchestra materials to school
DESCRIPTION:
URL:https://greenfieldorchestras.com/event/8-8-bring-all-orchestra-materials-to-school/
END:VEVENT
END:VCALENDAR